{"text_format":"1","workbook":"xlsx","n_sheets":2,"sheets":["DataSheet00000","XLDTREE"],"not_rendered":{"charts":0,"images":5,"macros":1,"external_links":1,"defined_names":83,"comments":0,"pivot_tables":0},"unopened":[],"bounds":{"document_bytes":16777216,"sheet_cells":100000,"rows_first":2000,"rows_last":500,"rows_between":2000,"halvings":0,"cell_chars":16384,"cell_head_chars":4096},"cells_cut":0,"cells_raw":0,"read":"whole","date_system":"1900"}

{"sheet":"DataSheet00000","index":0,"n_rows":47,"n_cols":17,"rows_kept":47,"cut":false,"hidden":true,"merged":[]}
["id","treeWB","treeWS","startCellRef","nameCellRef","forTreeCalculation","treeDisp","branchNodeDisp","refEditDisp","calcMethod","withUtility","RUtility","optimalPathTarget","displayCalcNodes","displayCalcBranches","displayRef","displayRefBeforeCalc"]
["DCTT202104011733069814","C:\\workingdir\\XLSTAT\\TEMP\\TUTO DCT\\DCT3\\EN\\DemoDCT3_EN.xlsm","XLDTREE",{"$f":"XLDTREE!$B$9","v":0},{"$f":"XLDTREE!$R$9","v":"Advertising"},{"$f":"SUM($G$27:$I$47)+COUNTIF($H$27:$H$47,\"=FALSE\")+SUM($H$4:$H$25)+COUNTA($A$27:$A$47)+COUNTA($A$4:$A$25)+$J$2+IF(ISNUMBER($L$2),$L$2,0)","v":226549},1,1,0,0,1,{"$f":"XLDTREE!$S$7","v":10000},0,"7,1,1,Exp G;5,1,1,G;8,1,1,Exp G R;6,1,1,G R;3,1,1,C;4,1,1,P","3,1,1,Opti;4,1,1,Opti R","0,1,1,Feuille ref;1,1,1,Arbre ref;2,1,1,Noeud ref",1]
["id","nType","parentNodeId","nameCellRef","refNodeWBWS","refTreeId","refNodeId","forRefNodeCalculation"]
["DCTN202104011733061979",0,null,{"$f":"XLDTREE!$R$15","v":"Which advertising channel ?"}]
["DCTN202104011733151206",0,"DCTN202104011733061979",{"$f":"XLDTREE!$F$26","v":"Resource type"}]
["DCTN202104011733156374",1,"DCTN202104011733151206",{"$f":"XLDTREE!$C$41","v":"Expected turnover supposition"}]
["DCTN202104011733156160",4,"DCTN202104011733156374",{"$f":"XLDTREE!$B$59","v":"End"}]
["DCTN202104011733151122",4,"DCTN202104011733156374",{"$f":"XLDTREE!$E$59","v":"End"}]
["DCTN202104011733153818",1,"DCTN202104011733151206",{"$f":"XLDTREE!$I$41","v":"Expected turnover supposition"}]
["DCTN202104011733152149",4,"DCTN202104011733153818",{"$f":"XLDTREE!$H$59","v":"End"}]
["DCTN202104011733155100",4,"DCTN202104011733153818",{"$f":"XLDTREE!$K$59","v":"End"}]
["DCTN202104011733153685",0,"DCTN202104011733061979",{"$f":"XLDTREE!$R$26","v":"Resource type"}]
["DCTN202104011733159545",1,"DCTN202104011733153685",{"$f":"XLDTREE!$O$41","v":"Expected turnover supposition"}]
["DCTN202104011733151041",4,"DCTN202104011733159545",{"$f":"XLDTREE!$N$59","v":"End"}]
["DCTN202104011733154499",4,"DCTN202104011733159545",{"$f":"XLDTREE!$Q$59","v":"End"}]
["DCTN202104011733158904",1,"DCTN202104011733153685",{"$f":"XLDTREE!$U$41","v":"Expected turnover supposition"}]
["DCTN202104011733152617",4,"DCTN202104011733158904",{"$f":"XLDTREE!$T$59","v":"End"}]
["DCTN202104011733156653",4,"DCTN202104011733158904",{"$f":"XLDTREE!$W$59","v":"End"}]
["DCTN202104011733153276",0,"DCTN202104011733061979",{"$f":"XLDTREE!$AD$26","v":"Resource type"}]
["DCTN20210401173315845",1,"DCTN202104011733153276",{"$f":"XLDTREE!$AA$41","v":"Expected turnover supposition"}]
["DCTN202104011733157721",4,"DCTN20210401173315845",{"$f":"XLDTREE!$Z$59","v":"End"}]
["DCTN202104011733155545",4,"DCTN20210401173315845",{"$f":"XLDTREE!$AC$59","v":"End"}]
["DCTN202104011733155331",1,"DCTN202104011733153276",{"$f":"XLDTREE!$AG$41","v":"Expected turnover supposition"}]
["DCTN202104011733153408",4,"DCTN202104011733155331",{"$f":"XLDTREE!$AF$59","v":"End"}]
["DCTN202104011733153449",4,"DCTN202104011733155331",{"$f":"XLDTREE!$AI$59","v":"End"}]
["id","leftNodeId","rightNodeId","position","isForced","nameCellRef","probabilityCellRef","logicCellRef","valueCellRef"]
["DCTB202104011733156908","DCTN202104011733061979","DCTN202104011733151206",1,0,{"$f":"XLDTREE!$F$22","v":"Social networks"},null,null,{"$f":"XLDTREE!$G$25","v":0}]
["DCTB202104011733153622","DCTN202104011733151206","DCTN202104011733156374",1,0,{"$f":"XLDTREE!$C$37","v":"Internal"},null,null,{"$f":"XLDTREE!$D$40","v":-5000}]
["DCTB202104011733152808","DCTN202104011733156374","DCTN202104011733156160",1,0,{"$f":"XLDTREE!$B$52","v":"High"},{"$f":"XLDTREE!$C$53","v":0.5},null,{"$f":"XLDTREE!$C$54","v":20000}]
["DCTB20210401173315333","DCTN202104011733156374","DCTN202104011733151122",2,0,{"$f":"XLDTREE!$E$52","v":"Low"},{"$f":"XLDTREE!$F$53","v":0.5},null,{"$f":"XLDTREE!$F$54","v":15000}]
["DCTB202104011733156101","DCTN202104011733151206","DCTN202104011733153818",2,0,{"$f":"XLDTREE!$I$37","v":"External"},null,null,{"$f":"XLDTREE!$J$40","v":-10000}]
["DCTB202104011733153324","DCTN202104011733153818","DCTN202104011733152149",1,0,{"$f":"XLDTREE!$H$52","v":"High"},{"$f":"XLDTREE!$I$53","v":0.6},null,{"$f":"XLDTREE!$I$54","v":25000}]
["DCTB202104011733155674","DCTN202104011733153818","DCTN202104011733155100",2,0,{"$f":"XLDTREE!$K$52","v":"Low"},{"$f":"XLDTREE!$L$53","v":0.4},null,{"$f":"XLDTREE!$L$54","v":18000}]
["DCTB202104011733159479","DCTN202104011733061979","DCTN202104011733153685",2,0,{"$f":"XLDTREE!$R$22","v":"Newsletter"},null,null,{"$f":"XLDTREE!$S$25","v":0}]
["DCTB202104011733158411","DCTN202104011733153685","DCTN202104011733159545",1,0,{"$f":"XLDTREE!$O$37","v":"Internal"},null,null,{"$f":"XLDTREE!$P$40","v":-3500}]
["DCTB202104011733158798","DCTN202104011733159545","DCTN202104011733151041",1,0,{"$f":"XLDTREE!$N$52","v":"High"},{"$f":"XLDTREE!$O$53","v":0.4},null,{"$f":"XLDTREE!$O$54","v":18000}]
["DCTB202104011733151656","DCTN202104011733159545","DCTN202104011733154499",2,0,{"$f":"XLDTREE!$Q$52","v":"Low"},{"$f":"XLDTREE!$R$53","v":0.6},null,{"$f":"XLDTREE!$R$54","v":16000}]
["DCTB202104011733158624","DCTN202104011733153685","DCTN202104011733158904",2,0,{"$f":"XLDTREE!$U$37","v":"External"},null,null,{"$f":"XLDTREE!$V$40","v":-5000}]
["DCTB20210401173315720","DCTN202104011733158904","DCTN202104011733152617",1,0,{"$f":"XLDTREE!$T$52","v":"High"},{"$f":"XLDTREE!$U$53","v":0.6},null,{"$f":"XLDTREE!$U$54","v":20000}]
["DCTB20210401173315992","DCTN202104011733158904","DCTN202104011733156653",2,0,{"$f":"XLDTREE!$W$52","v":"Low"},{"$f":"XLDTREE!$X$53","v":0.4},null,{"$f":"XLDTREE!$X$54","v":16000}]
["DCTB202104011733159670","DCTN202104011733061979","DCTN202104011733153276",3,0,{"$f":"XLDTREE!$AD$22","v":"Internet advertising"},null,null,{"$f":"XLDTREE!$AE$25","v":0}]
["DCTB202104011733157147","DCTN202104011733153276","DCTN20210401173315845",1,0,{"$f":"XLDTREE!$AA$37","v":"Internal"},null,null,{"$f":"XLDTREE!$AB$40","v":-8000}]
["DCTB202104011733159751","DCTN20210401173315845","DCTN202104011733157721",1,0,{"$f":"XLDTREE!$Z$52","v":"High"},{"$f":"XLDTREE!$AA$53","v":0.6},null,{"$f":"XLDTREE!$AA$54","v":30000}]
["DCTB202104011733153810","DCTN20210401173315845","DCTN202104011733155545",2,0,{"$f":"XLDTREE!$AC$52","v":"Low"},{"$f":"XLDTREE!$AD$53","v":0.4},null,{"$f":"XLDTREE!$AD$54","v":20000}]
["DCTB202104011733155651","DCTN202104011733153276","DCTN202104011733155331",2,0,{"$f":"XLDTREE!$AG$37","v":"External"},null,null,{"$f":"XLDTREE!$AH$40","v":-15000}]
["DCTB202104011733156292","DCTN202104011733155331","DCTN202104011733153408",1,0,{"$f":"XLDTREE!$AF$52","v":"High"},{"$f":"XLDTREE!$AG$53","v":0.7},null,{"$f":"XLDTREE!$AG$54","v":40000}]
["DCTB202104011733152060","DCTN202104011733155331","DCTN202104011733153449",2,0,{"$f":"XLDTREE!$AI$52","v":"Low"},{"$f":"XLDTREE!$AJ$53","v":0.3},null,{"$f":"XLDTREE!$AJ$54","v":25000}]

{"sheet":"XLDTREE","index":1,"n_rows":63,"n_cols":36,"rows_kept":63,"cut":false,"hidden":false,"merged":[]}
[]
[]
[]
[]
[]
[]
[null,null,null,null,null,null,null,null,null,null,null,null,null,null,null,null,null,"R utility",10000]
[]
[null,null,null,null,null,null,null,null,null,null,null,null,null,null,null,null,null,"Advertising"]
[null,null,null,null,null,null,null,null,null,null,null,null,null,null,null,null,null,"Nodes",{"$f":"[1]!DTree_TreeValue(TUP_DCTT202104011733069814,\"DCTT202104011733069814\",0)","v":10}]
[]
[]
[]
[]
[null,null,null,null,null,null,null,null,null,null,null,null,null,null,null,null,null,"Which advertising channel ?"]
[null,null,null,null,null,null,null,null,null,null,null,null,null,null,null,null,null,"Exp G",{"$f":"[1]!DTree_NodeValue(TUP_DCTT202104011733069814,\"DCTN202104011733061979\",7)","v":20500}]
[null,null,null,null,null,null,null,null,null,null,null,null,null,null,null,null,null,"Exp G R",{"$f":"[1]!DTree_NodeValue(TUP_DCTT202104011733069814,\"DCTN202104011733061979\",8)","v":0.83217666861183803}]
[]
[]
[]
[]
[null,null,null,null,null,"Social networks",null,null,null,null,null,null,null,null,null,null,null,"Newsletter",null,null,null,null,null,null,null,null,null,null,null,"Internet advertising"]
[null,null,null,null,null,"Opti",{"$f":"[1]!DTree_BranchValue(TUP_DCTT202104011733069814,\"DCTB202104011733156908\",3)","v":false},null,null,null,null,null,null,null,null,null,null,"Opti",{"$f":"[1]!DTree_BranchValue(TUP_DCTT202104011733069814,\"DCTB202104011733159479\",3)","v":false},null,null,null,null,null,null,null,null,null,null,"Opti",{"$f":"[1]!DTree_BranchValue(TUP_DCTT202104011733069814,\"DCTB202104011733159670\",3)","v":true}]
[null,null,null,null,null,"Opti R",{"$f":"[1]!DTree_BranchValue(TUP_DCTT202104011733069814,\"DCTB202104011733156908\",4)","v":false},null,null,null,null,null,null,null,null,null,null,"Opti R",{"$f":"[1]!DTree_BranchValue(TUP_DCTT202104011733069814,\"DCTB202104011733159479\",4)","v":false},null,null,null,null,null,null,null,null,null,null,"Opti R",{"$f":"[1]!DTree_BranchValue(TUP_DCTT202104011733069814,\"DCTB202104011733159670\",4)","v":true}]
[null,null,null,null,null,"Value",0,null,null,null,null,null,null,null,null,null,null,"Value",0,null,null,null,null,null,null,null,null,null,null,"Value",0]
[null,null,null,null,null,"Resource type",null,null,null,null,null,null,null,null,null,null,null,"Resource type",null,null,null,null,null,null,null,null,null,null,null,"Resource type"]
[null,null,null,null,null,"Exp G",{"$f":"[1]!DTree_NodeValue(TUP_DCTT202104011733069814,\"DCTN202104011733151206\",7)","v":12500},null,null,null,null,null,null,null,null,null,null,"Exp G",{"$f":"[1]!DTree_NodeValue(TUP_DCTT202104011733069814,\"DCTN202104011733153685\",7)","v":13400},null,null,null,null,null,null,null,null,null,null,"Exp G",{"$f":"[1]!DTree_NodeValue(TUP_DCTT202104011733069814,\"DCTN202104011733153276\",7)","v":20500}]
[null,null,null,null,null,"G",{"$f":"[1]!DTree_NodeValue(TUP_DCTT202104011733069814,\"DCTN202104011733151206\",5)","v":0},null,null,null,null,null,null,null,null,null,null,"G",{"$f":"[1]!DTree_NodeValue(TUP_DCTT202104011733069814,\"DCTN202104011733153685\",5)","v":0},null,null,null,null,null,null,null,null,null,null,"G",{"$f":"[1]!DTree_NodeValue(TUP_DCTT202104011733069814,\"DCTN202104011733153276\",5)","v":0}]
[null,null,null,null,null,"Exp G R",{"$f":"[1]!DTree_NodeValue(TUP_DCTT202104011733069814,\"DCTN202104011733151206\",8)","v":0.70449519934006388},null,null,null,null,null,null,null,null,null,null,"Exp G R",{"$f":"[1]!DTree_NodeValue(TUP_DCTT202104011733069814,\"DCTN202104011733153685\",8)","v":0.73426900664636685},null,null,null,null,null,null,null,null,null,null,"Exp G R",{"$f":"[1]!DTree_NodeValue(TUP_DCTT202104011733069814,\"DCTN202104011733153276\",8)","v":0.83217666861183803}]
[null,null,null,null,null,"G R",{"$f":"[1]!DTree_NodeValue(TUP_DCTT202104011733069814,\"DCTN202104011733151206\",6)","v":0},null,null,null,null,null,null,null,null,null,null,"G R",{"$f":"[1]!DTree_NodeValue(TUP_DCTT202104011733069814,\"DCTN202104011733153685\",6)","v":0},null,null,null,null,null,null,null,null,null,null,"G R",{"$f":"[1]!DTree_NodeValue(TUP_DCTT202104011733069814,\"DCTN202104011733153276\",6)","v":0}]
[null,null,null,null,null,"C",{"$f":"[1]!DTree_NodeValue(TUP_DCTT202104011733069814,\"DCTN202104011733151206\",3)","v":0},null,null,null,null,null,null,null,null,null,null,"C",{"$f":"[1]!DTree_NodeValue(TUP_DCTT202104011733069814,\"DCTN202104011733153685\",3)","v":0},null,null,null,null,null,null,null,null,null,null,"C",{"$f":"[1]!DTree_NodeValue(TUP_DCTT202104011733069814,\"DCTN202104011733153276\",3)","v":0}]
[null,null,null,null,null,"P",{"$f":"[1]!DTree_NodeValue(TUP_DCTT202104011733069814,\"DCTN202104011733151206\",4)","v":0},null,null,null,null,null,null,null,null,null,null,"P",{"$f":"[1]!DTree_NodeValue(TUP_DCTT202104011733069814,\"DCTN202104011733153685\",4)","v":0},null,null,null,null,null,null,null,null,null,null,"P",{"$f":"[1]!DTree_NodeValue(TUP_DCTT202104011733069814,\"DCTN202104011733153276\",4)","v":0}]
[]
[]
[]
[]
[null,null,"Internal",null,null,null,null,null,"External",null,null,null,null,null,"Internal",null,null,null,null,null,"External",null,null,null,null,null,"Internal",null,null,null,null,null,"External"]
[null,null,"Opti",{"$f":"[1]!DTree_BranchValue(TUP_DCTT202104011733069814,\"DCTB202104011733153622\",3)","v":true},null,null,null,null,"Opti",{"$f":"[1]!DTree_BranchValue(TUP_DCTT202104011733069814,\"DCTB202104011733156101\",3)","v":false},null,null,null,null,"Opti",{"$f":"[1]!DTree_BranchValue(TUP_DCTT202104011733069814,\"DCTB202104011733158411\",3)","v":false},null,null,null,null,"Opti",{"$f":"[1]!DTree_BranchValue(TUP_DCTT202104011733069814,\"DCTB202104011733158624\",3)","v":true},null,null,null,null,"Opti",{"$f":"[1]!DTree_BranchValue(TUP_DCTT202104011733069814,\"DCTB202104011733157147\",3)","v":false},null,null,null,null,"Opti",{"$f":"[1]!DTree_BranchValue(TUP_DCTT202104011733069814,\"DCTB202104011733155651\",3)","v":true}]
[null,null,"Opti R",{"$f":"[1]!DTree_BranchValue(TUP_DCTT202104011733069814,\"DCTB202104011733153622\",4)","v":true},null,null,null,null,"Opti R",{"$f":"[1]!DTree_BranchValue(TUP_DCTT202104011733069814,\"DCTB202104011733156101\",4)","v":false},null,null,null,null,"Opti R",{"$f":"[1]!DTree_BranchValue(TUP_DCTT202104011733069814,\"DCTB202104011733158411\",4)","v":true},null,null,null,null,"Opti R",{"$f":"[1]!DTree_BranchValue(TUP_DCTT202104011733069814,\"DCTB202104011733158624\",4)","v":false},null,null,null,null,"Opti R",{"$f":"[1]!DTree_BranchValue(TUP_DCTT202104011733069814,\"DCTB202104011733157147\",4)","v":false},null,null,null,null,"Opti R",{"$f":"[1]!DTree_BranchValue(TUP_DCTT202104011733069814,\"DCTB202104011733155651\",4)","v":true}]
[null,null,"Value",-5000,null,null,null,null,"Value",-10000,null,null,null,null,"Value",-3500,null,null,null,null,"Value",-5000,null,null,null,null,"Value",-8000,null,null,null,null,"Value",-15000]
[null,null,"Expected turnover supposition",null,null,null,null,null,"Expected turnover supposition",null,null,null,null,null,"Expected turnover supposition",null,null,null,null,null,"Expected turnover supposition",null,null,null,null,null,"Expected turnover supposition",null,null,null,null,null,"Expected turnover supposition"]
[null,null,"Exp G",{"$f":"[1]!DTree_NodeValue(TUP_DCTT202104011733069814,\"DCTN202104011733156374\",7)","v":12500},null,null,null,null,"Exp G",{"$f":"[1]!DTree_NodeValue(TUP_DCTT202104011733069814,\"DCTN202104011733153818\",7)","v":12200},null,null,null,null,"Exp G",{"$f":"[1]!DTree_NodeValue(TUP_DCTT202104011733069814,\"DCTN202104011733159545\",7)","v":13300},null,null,null,null,"Exp G",{"$f":"[1]!DTree_NodeValue(TUP_DCTT202104011733069814,\"DCTN202104011733158904\",7)","v":13400},null,null,null,null,"Exp G",{"$f":"[1]!DTree_NodeValue(TUP_DCTT202104011733069814,\"DCTN20210401173315845\",7)","v":18000},null,null,null,null,"Exp G",{"$f":"[1]!DTree_NodeValue(TUP_DCTT202104011733069814,\"DCTN202104011733155331\",7)","v":20500}]
[null,null,"G",{"$f":"[1]!DTree_NodeValue(TUP_DCTT202104011733069814,\"DCTN202104011733156374\",5)","v":-5000},null,null,null,null,"G",{"$f":"[1]!DTree_NodeValue(TUP_DCTT202104011733069814,\"DCTN202104011733153818\",5)","v":-10000},null,null,null,null,"G",{"$f":"[1]!DTree_NodeValue(TUP_DCTT202104011733069814,\"DCTN202104011733159545\",5)","v":-3500},null,null,null,null,"G",{"$f":"[1]!DTree_NodeValue(TUP_DCTT202104011733069814,\"DCTN202104011733158904\",5)","v":-5000},null,null,null,null,"G",{"$f":"[1]!DTree_NodeValue(TUP_DCTT202104011733069814,\"DCTN20210401173315845\",5)","v":-8000},null,null,null,null,"G",{"$f":"[1]!DTree_NodeValue(TUP_DCTT202104011733069814,\"DCTN202104011733155331\",5)","v":-15000}]
[null,null,"Exp G R",{"$f":"[1]!DTree_NodeValue(TUP_DCTT202104011733069814,\"DCTN202104011733156374\",8)","v":0.70449519934006388},null,null,null,null,"Exp G R",{"$f":"[1]!DTree_NodeValue(TUP_DCTT202104011733069814,\"DCTN202104011733153818\",8)","v":0.6863903182640535},null,null,null,null,"Exp G R",{"$f":"[1]!DTree_NodeValue(TUP_DCTT202104011733069814,\"DCTN202104011733159545\",8)","v":0.73426900664636685},null,null,null,null,"Exp G R",{"$f":"[1]!DTree_NodeValue(TUP_DCTT202104011733069814,\"DCTN202104011733158904\",8)","v":0.73297347043171035},null,null,null,null,"Exp G R",{"$f":"[1]!DTree_NodeValue(TUP_DCTT202104011733069814,\"DCTN20210401173315845\",8)","v":0.81304042021771883},null,null,null,null,"Exp G R",{"$f":"[1]!DTree_NodeValue(TUP_DCTT202104011733069814,\"DCTN202104011733155331\",8)","v":0.83217666861183803}]
[null,null,"G R",{"$f":"[1]!DTree_NodeValue(TUP_DCTT202104011733069814,\"DCTN202104011733156374\",6)","v":-0.64872127070012819},null,null,null,null,"G R",{"$f":"[1]!DTree_NodeValue(TUP_DCTT202104011733069814,\"DCTN202104011733153818\",6)","v":-1.7182818284590451},null,null,null,null,"G R",{"$f":"[1]!DTree_NodeValue(TUP_DCTT202104011733069814,\"DCTN202104011733159545\",6)","v":-0.41906754859325712},null,null,null,null,"G R",{"$f":"[1]!DTree_NodeValue(TUP_DCTT202104011733069814,\"DCTN202104011733158904\",6)","v":-0.64872127070012819},null,null,null,null,"G R",{"$f":"[1]!DTree_NodeValue(TUP_DCTT202104011733069814,\"DCTN20210401173315845\",6)","v":-1.2255409284924679},null,null,null,null,"G R",{"$f":"[1]!DTree_NodeValue(TUP_DCTT202104011733069814,\"DCTN202104011733155331\",6)","v":-3.4816890703380645}]
[null,null,"C",{"$f":"[1]!DTree_NodeValue(TUP_DCTT202104011733069814,\"DCTN202104011733156374\",3)","v":-5000},null,null,null,null,"C",{"$f":"[1]!DTree_NodeValue(TUP_DCTT202104011733069814,\"DCTN202104011733153818\",3)","v":-10000},null,null,null,null,"C",{"$f":"[1]!DTree_NodeValue(TUP_DCTT202104011733069814,\"DCTN202104011733159545\",3)","v":-3500},null,null,null,null,"C",{"$f":"[1]!DTree_NodeValue(TUP_DCTT202104011733069814,\"DCTN202104011733158904\",3)","v":-5000},null,null,null,null,"C",{"$f":"[1]!DTree_NodeValue(TUP_DCTT202104011733069814,\"DCTN20210401173315845\",3)","v":-8000},null,null,null,null,"C",{"$f":"[1]!DTree_NodeValue(TUP_DCTT202104011733069814,\"DCTN202104011733155331\",3)","v":-15000}]
[null,null,"P",{"$f":"[1]!DTree_NodeValue(TUP_DCTT202104011733069814,\"DCTN202104011733156374\",4)","v":0},null,null,null,null,"P",{"$f":"[1]!DTree_NodeValue(TUP_DCTT202104011733069814,\"DCTN202104011733153818\",4)","v":0},null,null,null,null,"P",{"$f":"[1]!DTree_NodeValue(TUP_DCTT202104011733069814,\"DCTN202104011733159545\",4)","v":0},null,null,null,null,"P",{"$f":"[1]!DTree_NodeValue(TUP_DCTT202104011733069814,\"DCTN202104011733158904\",4)","v":0},null,null,null,null,"P",{"$f":"[1]!DTree_NodeValue(TUP_DCTT202104011733069814,\"DCTN20210401173315845\",4)","v":0},null,null,null,null,"P",{"$f":"[1]!DTree_NodeValue(TUP_DCTT202104011733069814,\"DCTN202104011733155331\",4)","v":0}]
[]
[]
[]
[]
[null,"High",null,null,"Low",null,null,"High",null,null,"Low",null,null,"High",null,null,"Low",null,null,"High",null,null,"Low",null,null,"High",null,null,"Low",null,null,"High",null,null,"Low"]
[null,"Probability",0.5,null,"Probability",0.5,null,"Probability",0.6,null,"Probability",0.4,null,"Probability",0.4,null,"Probability",0.6,null,"Probability",0.6,null,"Probability",0.4,null,"Probability",0.6,null,"Probability",0.4,null,"Probability",0.7,null,"Probability",0.3]
[null,"Value",20000,null,"Value",15000,null,"Value",25000,null,"Value",18000,null,"Value",18000,null,"Value",16000,null,"Value",20000,null,"Value",16000,null,"Value",30000,null,"Value",20000,null,"Value",40000,null,"Value",25000]
[]
[]
[]
[]
[null,"End",null,null,"End",null,null,"End",null,null,"End",null,null,"End",null,null,"End",null,null,"End",null,null,"End",null,null,"End",null,null,"End",null,null,"End",null,null,"End"]
[null,"G",{"$f":"[1]!DTree_NodeValue(TUP_DCTT202104011733069814,\"DCTN202104011733156160\",5)","v":15000},null,"G",{"$f":"[1]!DTree_NodeValue(TUP_DCTT202104011733069814,\"DCTN202104011733151122\",5)","v":10000},null,"G",{"$f":"[1]!DTree_NodeValue(TUP_DCTT202104011733069814,\"DCTN202104011733152149\",5)","v":15000},null,"G",{"$f":"[1]!DTree_NodeValue(TUP_DCTT202104011733069814,\"DCTN202104011733155100\",5)","v":8000},null,"G",{"$f":"[1]!DTree_NodeValue(TUP_DCTT202104011733069814,\"DCTN202104011733151041\",5)","v":14500},null,"G",{"$f":"[1]!DTree_NodeValue(TUP_DCTT202104011733069814,\"DCTN202104011733154499\",5)","v":12500},null,"G",{"$f":"[1]!DTree_NodeValue(TUP_DCTT202104011733069814,\"DCTN202104011733152617\",5)","v":15000},null,"G",{"$f":"[1]!DTree_NodeValue(TUP_DCTT202104011733069814,\"DCTN202104011733156653\",5)","v":11000},null,"G",{"$f":"[1]!DTree_NodeValue(TUP_DCTT202104011733069814,\"DCTN202104011733157721\",5)","v":22000},null,"G",{"$f":"[1]!DTree_NodeValue(TUP_DCTT202104011733069814,\"DCTN202104011733155545\",5)","v":12000},null,"G",{"$f":"[1]!DTree_NodeValue(TUP_DCTT202104011733069814,\"DCTN202104011733153408\",5)","v":25000},null,"G",{"$f":"[1]!DTree_NodeValue(TUP_DCTT202104011733069814,\"DCTN202104011733153449\",5)","v":10000}]
[null,"G R",{"$f":"[1]!DTree_NodeValue(TUP_DCTT202104011733069814,\"DCTN202104011733156160\",6)","v":0.77686983985157021},null,"G R",{"$f":"[1]!DTree_NodeValue(TUP_DCTT202104011733069814,\"DCTN202104011733151122\",6)","v":0.63212055882855767},null,"G R",{"$f":"[1]!DTree_NodeValue(TUP_DCTT202104011733069814,\"DCTN202104011733152149\",6)","v":0.77686983985157021},null,"G R",{"$f":"[1]!DTree_NodeValue(TUP_DCTT202104011733069814,\"DCTN202104011733155100\",6)","v":0.55067103588277844},null,"G R",{"$f":"[1]!DTree_NodeValue(TUP_DCTT202104011733069814,\"DCTN202104011733151041\",6)","v":0.76542971190620235},null,"G R",{"$f":"[1]!DTree_NodeValue(TUP_DCTT202104011733069814,\"DCTN202104011733154499\",6)","v":0.71349520313980985},null,"G R",{"$f":"[1]!DTree_NodeValue(TUP_DCTT202104011733069814,\"DCTN202104011733152617\",6)","v":0.77686983985157021},null,"G R",{"$f":"[1]!DTree_NodeValue(TUP_DCTT202104011733069814,\"DCTN202104011733156653\",6)","v":0.6671289163019205},null,"G R",{"$f":"[1]!DTree_NodeValue(TUP_DCTT202104011733069814,\"DCTN202104011733157721\",6)","v":0.8891968416376661},null,"G R",{"$f":"[1]!DTree_NodeValue(TUP_DCTT202104011733069814,\"DCTN202104011733155545\",6)","v":0.69880578808779781},null,"G R",{"$f":"[1]!DTree_NodeValue(TUP_DCTT202104011733069814,\"DCTN202104011733153408\",6)","v":0.91791500137610116},null,"G R",{"$f":"[1]!DTree_NodeValue(TUP_DCTT202104011733069814,\"DCTN202104011733153449\",6)","v":0.63212055882855767}]
[null,"C",{"$f":"[1]!DTree_NodeValue(TUP_DCTT202104011733069814,\"DCTN202104011733156160\",3)","v":-5000},null,"C",{"$f":"[1]!DTree_NodeValue(TUP_DCTT202104011733069814,\"DCTN202104011733151122\",3)","v":-5000},null,"C",{"$f":"[1]!DTree_NodeValue(TUP_DCTT202104011733069814,\"DCTN202104011733152149\",3)","v":-10000},null,"C",{"$f":"[1]!DTree_NodeValue(TUP_DCTT202104011733069814,\"DCTN202104011733155100\",3)","v":-10000},null,"C",{"$f":"[1]!DTree_NodeValue(TUP_DCTT202104011733069814,\"DCTN202104011733151041\",3)","v":-3500},null,"C",{"$f":"[1]!DTree_NodeValue(TUP_DCTT202104011733069814,\"DCTN202104011733154499\",3)","v":-3500},null,"C",{"$f":"[1]!DTree_NodeValue(TUP_DCTT202104011733069814,\"DCTN202104011733152617\",3)","v":-5000},null,"C",{"$f":"[1]!DTree_NodeValue(TUP_DCTT202104011733069814,\"DCTN202104011733156653\",3)","v":-5000},null,"C",{"$f":"[1]!DTree_NodeValue(TUP_DCTT202104011733069814,\"DCTN202104011733157721\",3)","v":-8000},null,"C",{"$f":"[1]!DTree_NodeValue(TUP_DCTT202104011733069814,\"DCTN202104011733155545\",3)","v":-8000},null,"C",{"$f":"[1]!DTree_NodeValue(TUP_DCTT202104011733069814,\"DCTN202104011733153408\",3)","v":-15000},null,"C",{"$f":"[1]!DTree_NodeValue(TUP_DCTT202104011733069814,\"DCTN202104011733153449\",3)","v":-15000}]
[null,"P",{"$f":"[1]!DTree_NodeValue(TUP_DCTT202104011733069814,\"DCTN202104011733156160\",4)","v":20000},null,"P",{"$f":"[1]!DTree_NodeValue(TUP_DCTT202104011733069814,\"DCTN202104011733151122\",4)","v":15000},null,"P",{"$f":"[1]!DTree_NodeValue(TUP_DCTT202104011733069814,\"DCTN202104011733152149\",4)","v":25000},null,"P",{"$f":"[1]!DTree_NodeValue(TUP_DCTT202104011733069814,\"DCTN202104011733155100\",4)","v":18000},null,"P",{"$f":"[1]!DTree_NodeValue(TUP_DCTT202104011733069814,\"DCTN202104011733151041\",4)","v":18000},null,"P",{"$f":"[1]!DTree_NodeValue(TUP_DCTT202104011733069814,\"DCTN202104011733154499\",4)","v":16000},null,"P",{"$f":"[1]!DTree_NodeValue(TUP_DCTT202104011733069814,\"DCTN202104011733152617\",4)","v":20000},null,"P",{"$f":"[1]!DTree_NodeValue(TUP_DCTT202104011733069814,\"DCTN202104011733156653\",4)","v":16000},null,"P",{"$f":"[1]!DTree_NodeValue(TUP_DCTT202104011733069814,\"DCTN202104011733157721\",4)","v":30000},null,"P",{"$f":"[1]!DTree_NodeValue(TUP_DCTT202104011733069814,\"DCTN202104011733155545\",4)","v":20000},null,"P",{"$f":"[1]!DTree_NodeValue(TUP_DCTT202104011733069814,\"DCTN202104011733153408\",4)","v":40000},null,"P",{"$f":"[1]!DTree_NodeValue(TUP_DCTT202104011733069814,\"DCTN202104011733153449\",4)","v":25000}]